BEGIN:VCALENDAR
VERSION:2.0
PRODID:-//Diversity House
CALSCALE:GREGORIAN
METHOD:PUBLISH
X-WR-CALNAME:Diversity House
X-ORIGINAL-URL:https://www.diversityhouse.org.uk/product/summer-youth-club-2019-3/
X-WR-CALDESC:Summer Youth Club 2019
BEGIN:VEVENT
DTSTART:20190809T100000
DTEND:20190809T120000
SUMMARY:Summer Youth Club 2019
DESCRIPTION:The Summer Youth Club is back! children aged 6 to 15.  With an array of activities from games, arts and crafts, children to learn and share about other cultures. It will be a great place for children to make new friends, build confidence and keep them occupied.
LOCATION:Diversity House, Phoenix House, Central Av, Sittingbourne, ME10 4BX
END:VEVENT
END:VCALENDAR
