BEGIN:VCALENDAR
VERSION:2.0
PRODID:-//Diversity House
CALSCALE:GREGORIAN
METHOD:PUBLISH
X-WR-CALNAME:Diversity House
X-ORIGINAL-URL:https://www.diversityhouse.org.uk/product/sewing-club/
X-WR-CALDESC:Sewing Club
BEGIN:VEVENT
DTSTART:20190611T000000
DTEND:20190716T000000
SUMMARY:Sewing Club
DESCRIPTION:The course is for adults in the community who would like to learn or improve their sewing skills. Would you like to be able to mend or upcycle your clothes?

The course will teach the various type of stitches and what they are used for. At the end of course you will leave with a passport holder or a coin purse.

This course is for people who have been sewing and would like to improve their sewing skill, new learners who want to gain another skill or people who would like to use the skill acquired to start a business or just save yourself some money, e.g. gift items, decorations etc. People will be learning about different types of stitches used in sewing.

All levels welcome

Credit for picture: Image by <a href="https://pixabay.com/users/adonyig-4265448/?utm_source=link-attribution&amp;utm_medium=referral&amp;utm_campaign=image&amp;utm_content=3673057">Gábor Adonyi</a> from <a href="https://pixabay.com/?utm_source=link-attribution&amp;utm_medium=referral&amp;utm_campaign=image&amp;utm_content=3673057">Pixabay</a>
LOCATION:Diversity House, Phoenix House, Central Av, Sittingbourne, ME10 4BX
END:VEVENT
END:VCALENDAR
