BEGIN:VCALENDAR
VERSION:2.0
PRODID:-//Diversity House
CALSCALE:GREGORIAN
METHOD:PUBLISH
X-WR-CALNAME:Diversity House
X-ORIGINAL-URL:https://www.diversityhouse.org.uk/product/walking-club-6/
X-WR-CALDESC:Walking Club
BEGIN:VEVENT
DTSTART:20190521T110000
DTEND:20190521T123000
SUMMARY:Walking Club
DESCRIPTION:Walking is great as part of a healthy lifestyle, it helps in reducing stress, weight loss and is also a great way to meet people.

Diversity House are starting a weekly walking club from April 16<sup>th</sup> 11:00 am to 12:30. Meeting point Phoenix House.
LOCATION:Diversity House, Phoenix House, Central Av, Sittingbourne, ME10 4BX
END:VEVENT
END:VCALENDAR
