BEGIN:VCALENDAR
VERSION:2.0
PRODID:-//Diversity House
CALSCALE:GREGORIAN
METHOD:PUBLISH
X-WR-CALNAME:Diversity House
X-ORIGINAL-URL:https://www.diversityhouse.org.uk/product/rescue-me/
X-WR-CALDESC:Rescue Me
BEGIN:VEVENT
DTSTART:20190518T093000
DTEND:20190518T120000
SUMMARY:Rescue Me
DESCRIPTION:Rescue Me is a course designed to inspire, empower and motivate individuals to become more resilient to the world around them. Providing encouragement to help increase self-esteem and confidence as well as uplifting them with positivity and mindful living.

Come and join our, fun and engaging, six-week course which begins on Saturday, 18th May at 9:30am - 12:00pm

This course is completely free of charge, funded by Diversity House.

<strong>For more information and to book your place contact:</strong>

Beverley Nolker
<a href="mailto:transformwithjoy@gmail.com">transformwithjoy@gmail.com</a>
07968 023050

Lesley Nowell-Hitchcock
<a href="mailto:lesley@mindful4life.co.uk">lesley@mindful4life.co.uk</a>
07825 630108
LOCATION:Diversity House, Phoenix House, Central Av, Sittingbourne, ME10 4BX
END:VEVENT
END:VCALENDAR
