BEGIN:VCALENDAR
VERSION:2.0
PRODID:-//Diversity House
CALSCALE:GREGORIAN
METHOD:PUBLISH
X-WR-CALNAME:Diversity House
X-ORIGINAL-URL:https://www.diversityhouse.org.uk/product/poetry-open-mic/
X-WR-CALDESC:Poetry Open Mic
BEGIN:VEVENT
DTSTART:20190320T173000
DTEND:20190320T200000
SUMMARY:Poetry Open Mic
DESCRIPTION:You might be writing poetry at home in your bedroom and would like to share your creations in a welcoming and safe environment with likeminded word smiths.

The open mic event is open to anyone, if it's your very first time or your 20th, we welcome you along to flex your creative muscles.

The event is being hosted by Diversity House and Sam from Wordsmithery.

<a href="https://openmicnightswale.eventbrite.co.uk">https://openmicnightswale.eventbrite.co.uk</a> – Can book via here

[fusion_button link="http://www.diversityhouse.org.uk/wp-content/uploads/2019/02/international-poetry-day-1.pdf" title="" target="_self" link_attributes="" alignment="" modal="" hide_on_mobile="small-visibility,medium-visibility,large-visibility" class="fusion-lightbox-link" id="" color="default" button_gradient_top_color="" button_gradient_bottom_color="" button_gradient_top_color_hover="" button_gradient_bottom_color_hover="" accent_color="" accent_hover_color="" type="" bevel_color="" border_width="" size="" stretch="default" shape="" icon="" icon_position="left" icon_divider="no" animation_type="" animation_direction="left" animation_speed="0.3" animation_offset=""]View Event Poster[/fusion_button]
LOCATION:Ideas Test Shop, 34 High Street, Sittingbourne, ME10 4PB
END:VEVENT
END:VCALENDAR
