BEGIN:VCALENDAR
VERSION:2.0
PRODID:-//Diversity House
CALSCALE:GREGORIAN
METHOD:PUBLISH
X-WR-CALNAME:Diversity House
X-ORIGINAL-URL:https://www.diversityhouse.org.uk/product/inclusive-armed-forces-day/
X-WR-CALDESC:Inclusive Armed Forces Day
BEGIN:VEVENT
DTSTART:20190629T090000
DTEND:20190629T180000
SUMMARY:Inclusive Armed Forces Day
DESCRIPTION:Families and community members coming together at our community centre to share BBQ dishes, listen to presentations from serving or retired members of the Armed Forces.  View the exhibition showcasing photographs of local people past and present who served/ are serving the Armed Forces.
LOCATION:Diversity House, Phoenix House, Central Av, Sittingbourne, ME10 4BX
END:VEVENT
END:VCALENDAR
