BEGIN:VCALENDAR
VERSION:2.0
PRODID:-//Diversity House
CALSCALE:GREGORIAN
METHOD:PUBLISH
X-WR-CALNAME:Diversity House
X-ORIGINAL-URL:https://www.diversityhouse.org.uk/product/assertiveness-self-confidence-workshop/
X-WR-CALDESC:Assertiveness &#038; Self Confidence Workshop
BEGIN:VEVENT
DTSTART:20180824T000000
DTEND:20180830T000000
SUMMARY:Assertiveness &#038; Self Confidence Workshop
DESCRIPTION:<span style="font-weight: 400;">The </span><span style="font-weight: 400;">Assertiveness and Self-Confidence</span><span style="font-weight: 400;"> workshop will give participants an understanding of what assertiveness and self-confidence each mean (in general and to them personally) and how to develop those feelings in their day-to-day lives. These skills will encompass many aspects of the participant's lives and have a positive effect on all of them.</span>

For more information on this workshop or to reserve your spot, please contact: <b>Training Administrator
</b><a href="mailto:info@diversityhouse.org.uk">info@diversityhouse.org.uk</a>
Telephone: 01795420455

&nbsp;
LOCATION:Diversity House, Phoenix House, Central Av, Sittingbourne, ME10 4BX
END:VEVENT
END:VCALENDAR
