BEGIN:VCALENDAR
VERSION:2.0
PRODID:-//Diversity House
CALSCALE:GREGORIAN
METHOD:PUBLISH
X-WR-CALNAME:Diversity House
X-ORIGINAL-URL:https://www.diversityhouse.org.uk/product/end-life-care-explained-pictures/
X-WR-CALDESC:End of Life Care Explained in Pictures
BEGIN:VEVENT
DTSTART:20180928T140000
DTEND:20180928T170000
SUMMARY:End of Life Care Explained in Pictures
DESCRIPTION:LAPCEL Launch BAME PICTOGRAMS

Inviting all service providers to attend a public launch of the work titled:

"End of Life Care Explained in Pictures"

Find out how BAME communities explain palliative and End of Life Care through the use of picture imagery

Learning Alliance for Palliative and End of Life Care Services (LAPCEL) collaborated with Migrants producing innovative public health programs.

[fusion_button link="http://www.diversityhouse.org.uk/wp-content/uploads/2018/08/LAPCEL-Booking-Form-Sept-18.docx" title="" target="_blank" link_attributes="" alignment="" modal="" hide_on_mobile="small-visibility,medium-visibility,large-visibility" class="" id="" color="default" button_gradient_top_color="" button_gradient_bottom_color="" button_gradient_top_color_hover="" button_gradient_bottom_color_hover="" accent_color="" accent_hover_color="" type="" bevel_color="" border_width="" size="" stretch="default" shape="" icon="fa-download" icon_position="left" icon_divider="no" animation_type="" animation_direction="left" animation_speed="0.3" animation_offset=""]Download Booking Form[/fusion_button]
LOCATION:Bridgewood Manor Hotel, Near Bluebell Hill, Walderslade Woods, Chatham, ME5 9AX
END:VEVENT
END:VCALENDAR
