BEGIN:VCALENDAR
VERSION:2.0
PRODID:-//Diversity House
CALSCALE:GREGORIAN
METHOD:PUBLISH
X-WR-CALNAME:Diversity House
X-ORIGINAL-URL:https://www.diversityhouse.org.uk/product/black-ethnic-minorities-volunteer-training-5/
X-WR-CALDESC:Black &#038; Ethnic Minorities &#8211; Volunteer Training
BEGIN:VEVENT
DTSTART:20180629T100000
DTEND:20180629T130000
SUMMARY:Black &#038; Ethnic Minorities &#8211; Volunteer Training
DESCRIPTION:This course will cover the following:

- An overview of the voluntary sector, the differences between this and the other sectors.

- Understanding the function of different volunteering organisations and how they use volunteers.

- The commitment required and the benefits of volunteering to both the organisation and the volunteer.

- Know where to find out about becoming a volunteer and the ways to apply for a volunteering post.

- How to improve and develop the skills needed to perform the role of a volunteer in a chosen organisation.

- Understand the importance of meeting personal and organisational standards in volunteering organisations.

- Be able to perform tasks in the volunteering role.

- Health and Safety requirements when volunteering.

- Equal Opportunities.

- Organisational policies.
LOCATION:Diversity House, Phoenix House, Central Av, Sittingbourne, ME10 4BX
END:VEVENT
END:VCALENDAR
